View In:
ArcGIS JavaScript
ArcGIS Online Map Viewer
ArcGIS Earth
ArcMap
ArcGIS Pro
View Footprint In:
ArcGIS Online Map Viewer
Service Description: Contour lines for Greene County NY: 500ft, 100ft, 50ft, 20ft, 10ft, 2ft.
These were generated using a 2 meter Digital Elevation Model provided by NYS ITS GIS Program office. http://gis.ny.gov/elevation/metadata/NYS-2-Meter.xml
The DEM was focused at a 7x7 cell rectangle neighborhood using the Focal Statistics tool and converted to US Feet. The Contour lines were then extracted from this new DEM to minimize line static and maximzie smoothness while maintaining data accuracy.
Map Name: Layers
Legend
All Layers and Tables
Dynamic Legend
Dynamic All Layers
Layers:
Description:
Service Item Id: 026d546bdd594c509f5b95dead618670
Copyright Text: Greene County GIS Office
Spatial Reference:
102100
(3857)
LatestVCSWkid(0)
Single Fused Map Cache: true
Tile Info:
- Height: 256.0
- Width: 256.0
- DPI: 96.0
-
Levels of Detail: 24
-
Level ID: 0
[ Start Tile, End Tile ]
- Resolution: 156543.03392800014
- Scale: 5.91657527591555E8
-
Level ID: 1
[ Start Tile, End Tile ]
- Resolution: 78271.51696399994
- Scale: 2.95828763795777E8
-
Level ID: 2
[ Start Tile, End Tile ]
- Resolution: 39135.75848200009
- Scale: 1.47914381897889E8
-
Level ID: 3
[ Start Tile, End Tile ]
- Resolution: 19567.87924099992
- Scale: 7.3957190948944E7
-
Level ID: 4
[ Start Tile, End Tile ]
- Resolution: 9783.93962049996
- Scale: 3.6978595474472E7
-
Level ID: 5
[ Start Tile, End Tile ]
- Resolution: 4891.96981024998
- Scale: 1.8489297737236E7
- Format: PNG
- Compression Quality: 0.0
- Origin: X: -2.0037508342787E7
Y: 2.0037508342787E7
- Spatial Reference: 102100
(3857)
LatestVCSWkid(0)
Initial Extent:
XMin: -8271790.683653441
YMin: 5195600.672294857
XMax: -8219402.719768505
YMax: 5222069.0554156145
Spatial Reference: 102100
(0)
LatestVCSWkid(0)
Full Extent:
XMin: -8297131.447946986
YMin: 5174799.141538209
XMax: -8211989.469316616
YMax: 5232022.772256436
Spatial Reference: 102100
(0)
LatestVCSWkid(0)
Units: esriMeters
Supported Image Format Types: PNG32,PNG24,PNG,JPG,DIB,TIFF,EMF,PS,PDF,GIF,SVG,SVGZ,BMP
Document Info:
Title:
Author:
Comments: Contour lines for Greene County NY: 500ft, 100ft, 50ft, 20ft, 10ft, 2ft.
These were generated using a 2 meter Digital Elevation Model provided by NYS ITS GIS Program office. http://gis.ny.gov/elevation/metadata/NYS-2-Meter.xml
The DEM was focused at a 7x7 cell rectangle neighborhood using the Focal Statistics tool and converted to US Feet. The Contour lines were then extracted from this new DEM to minimize line static and maximzie smoothness while maintaining data accuracy.
Subject: Contour Lines Feature Service for Greene County NY
Category:
Keywords: Elevation,Contour Lines. Greene County,New York
AntialiasingMode: None
TextAntialiasingMode: Force
Supports Dynamic Layers: true
Resampling: false
MaxRecordCount: 1000
MaxImageHeight: 4096
MaxImageWidth: 4096
Supported Query Formats: JSON, geoJSON
Supports Query Data Elements:
Min Scale: 144447.638572
Max Scale: 282.124294
Min LOD: 12
Max LOD: 18
Supports Datum Transformation: true
Child Resources:
Info
Dynamic Layer
Supported Operations:
Export Map
Identify
QueryLegends
QueryDomains
Find
Return Updates
Generate KML